BEGIN:VCALENDAR
VERSION:2.0
PRODID:-//Rollenrausch - ECPv6.15.20//NONSGML v1.0//EN
CALSCALE:GREGORIAN
METHOD:PUBLISH
X-ORIGINAL-URL:https://rollenrausch.de
X-WR-CALDESC:Veranstaltungen für Rollenrausch
REFRESH-INTERVAL;VALUE=DURATION:PT1H
X-Robots-Tag:noindex
X-PUBLISHED-TTL:PT1H
BEGIN:VTIMEZONE
TZID:Europe/Berlin
BEGIN:DAYLIGHT
TZOFFSETFROM:+0100
TZOFFSETTO:+0200
TZNAME:CEST
DTSTART:20240331T010000
END:DAYLIGHT
BEGIN:STANDARD
TZOFFSETFROM:+0200
TZOFFSETTO:+0100
TZNAME:CET
DTSTART:20241027T010000
END:STANDARD
BEGIN:DAYLIGHT
TZOFFSETFROM:+0100
TZOFFSETTO:+0200
TZNAME:CEST
DTSTART:20250330T010000
END:DAYLIGHT
BEGIN:STANDARD
TZOFFSETFROM:+0200
TZOFFSETTO:+0100
TZNAME:CET
DTSTART:20251026T010000
END:STANDARD
BEGIN:DAYLIGHT
TZOFFSETFROM:+0100
TZOFFSETTO:+0200
TZNAME:CEST
DTSTART:20260329T010000
END:DAYLIGHT
BEGIN:STANDARD
TZOFFSETFROM:+0200
TZOFFSETTO:+0100
TZNAME:CET
DTSTART:20261025T010000
END:STANDARD
END:VTIMEZONE
BEGIN:VEVENT
DTSTART;TZID=Europe/Berlin:20250412T150000
DTEND;TZID=Europe/Berlin:20250412T152000
DTSTAMP:20260421T181853
CREATED:20250321T095617Z
LAST-MODIFIED:20250321T095617Z
UID:297-1744470000-1744471200@rollenrausch.de
SUMMARY:Emmendinger Künstlermarkt
DESCRIPTION:Am Wochenende 12./13. April findet dieses Jahr wieder der traditionelle Frühjahres-Künstlermarkt in der Emmendinger Altstadt statt – und Rollenrausch ist mit dabei! Wir treten am Samstag und am Sonntag für den 21. Emmendinger Kleinkunstpreis an\, also kommt gerne vorbei und jobelt uns zu!
URL:https://rollenrausch.de/event/emmendinger-kuenstlermarkt/
LOCATION:Emmendinger Innenstadt\, Marktplatz 4\, Emmendingen\, 79312\, Germany
CATEGORIES:Impro-Show
ORGANIZER;CN="Die Spielspirale Emmendingen":MAILTO:info@spielspirale.de
END:VEVENT
BEGIN:VEVENT
DTSTART;TZID=Europe/Berlin:20250413T150000
DTEND;TZID=Europe/Berlin:20250413T152000
DTSTAMP:20260421T181853
CREATED:20250321T095805Z
LAST-MODIFIED:20250321T095805Z
UID:301-1744556400-1744557600@rollenrausch.de
SUMMARY:Emmendinger Künstlermarkt
DESCRIPTION:Am Wochenende 12./13. April findet dieses Jahr wieder der traditionelle Frühjahres-Künstlermarkt in der Emmendinger Altstadt statt – und Rollenrausch ist mit dabei! Wir treten am Samstag und am Sonntag für den 21. Emmendinger Kleinkunstpreis an\, also kommt gerne vorbei und jobelt uns zu!
URL:https://rollenrausch.de/event/emmendinger-kuenstlermarkt-2/
LOCATION:Emmendinger Innenstadt\, Marktplatz 4\, Emmendingen\, 79312\, Germany
CATEGORIES:Impro-Show
ORGANIZER;CN="Die Spielspirale Emmendingen":MAILTO:info@spielspirale.de
END:VEVENT
END:VCALENDAR